BEGIN:VCALENDAR
VERSION:2.0
PRODID:-//ChamberMaster//Event Calendar 2.0//EN
METHOD:PUBLISH
X-PUBLISHED-TTL:P3D
REFRESH-INTERVAL:P3D
CALSCALE:GREGORIAN
BEGIN:VEVENT
DTSTART:20240917T150000Z
DTEND:20240917T153000Z
X-MICROSOFT-CDO-ALLDAYEVENT:FALSE
SUMMARY:2024- Ribbon Cutting - Los Hermanos
DESCRIPTION:Join us as we celebrate the Ribbon Cutting for the new Los Hermanos!\n\n\n\nCome for the Ribbon Cutting\, stay for some great food!
X-ALT-DESC;FMTTYPE=text/html:Join us as we celebrate the Ribbon Cutting for the new Los Hermanos!<br />\n<br />\nCome for the Ribbon Cutting\, stay for some great food!
LOCATION:173 East Tyler St. Canton\, Texas 75103
UID:e.3103.1778
SEQUENCE:3
DTSTAMP:20260425T121739Z
URL:https://www.cantontexaschamber.com/events/details/2024-ribbon-cutting-los-hermanos-1778
END:VEVENT

END:VCALENDAR
