BEGIN:VCALENDAR
VERSION:2.0
PRODID:-//ChamberMaster//Event Calendar 2.0//EN
METHOD:PUBLISH
X-PUBLISHED-TTL:P3D
REFRESH-INTERVAL:P3D
CALSCALE:GREGORIAN
BEGIN:VEVENT
DTSTART:20251003T160000Z
DTEND:20251003T163000Z
X-MICROSOFT-CDO-ALLDAYEVENT:FALSE
SUMMARY:2025- Ribbon Cutting - East Texas Wicks
DESCRIPTION:Join us on the First Monday grounds as we celebrate East Texas Wicks with a ribbon cutting
X-ALT-DESC;FMTTYPE=text/html:Join us on the First Monday grounds as we celebrate East Texas Wicks with a ribbon cutting&nbsp\;<br />\n<br />\n&nbsp\;
LOCATION:Trade Center 3 booth #116 & 117 First Monday Trade Days Canton\, Texas 75103
UID:e.3103.1848
SEQUENCE:3
DTSTAMP:20260420T082443Z
URL:https://www.cantontexaschamber.com/events/details/2025-ribbon-cutting-east-texas-wicks-1848
END:VEVENT

END:VCALENDAR
