BEGIN:VCALENDAR
VERSION:2.0
PRODID:-//ChamberMaster//Event Calendar 2.0//EN
METHOD:PUBLISH
X-PUBLISHED-TTL:P3D
REFRESH-INTERVAL:P3D
CALSCALE:GREGORIAN
BEGIN:VEVENT
DTSTART:20260613T130000Z
DTEND:20260613T220000Z
X-MICROSOFT-CDO-ALLDAYEVENT:FALSE
SUMMARY:Miracle Madness Basketball Tournament hosted by the Brantley Team at RE/MAX
DESCRIPTION:Miracle Madness Basketball Tournament hosted by the Brantley Team\n\nJune 13th starts at 8:00am\n\nCanton Jr High Gym \n\n1021-1099 Athens St\, Canton TX 75103\n\n \n\nJoin us for our 4th annual basketball tournament! This year 100% of proceeds will be donated to the Shaw family to support Ryder in his fight against cancer. Ryder Shaw is the 12-year-old son of local Van ISD teachers: Adam and Jenny Shaw. Ryder loves all things sports\, especially basketball\, football\, baseball\, and golf. In February he was diagnosed with B Cell Acute Lymphoblastic Leukemia and will be on a 2+ year treatment plan.\n\nPlease join us June 13th to play for Team Ryder!\n\n- 4 on 4\n\n- $30 Per Player\n\n- 3 Point Contest\n\n- Free Throw Contest\n\n- 8 Player Team Max\n\n- 5 Game Minimum\n\n- Giveaways\n\n- Free Parking\n\n- Concessions\n\n- Must be 18+ years old to play\n\nTournament hosted by The Brantley Team at RE/MAX Landmark.\n\nFor more information contact: Cody Brantley at 903-283-2145
X-ALT-DESC;FMTTYPE=text/html:<span style="color:#212121\;"><span style="font-size:11.0pt\;">Miracle Madness Basketball Tournament hosted by the Brantley Team</span></span><br />\n<span style="color:#212121\;"><span style="font-size:11.0pt\;">June 13<sup>th</sup>&nbsp\;starts at 8:00am</span></span><br />\n<span style="color:#212121\;"><span style="font-size:11.0pt\;">Canton Jr High Gym&nbsp\;</span></span><br />\n<span style="color:#212121\;"><span style="font-size:11.0pt\;">1021-1099 Athens St\, Canton TX 75103</span></span><br />\n&nbsp\;<br />\n<span style="color:#212121\;"><span style="font-size:11.0pt\;">Join us for our 4th annual basketball tournament! This year 100% of proceeds will be donated to the Shaw family to support Ryder in his fight against cancer. Ryder Shaw is the 12-year-old son of local Van ISD teachers: Adam and Jenny Shaw. Ryder loves all things sports\, especially basketball\, football\, baseball\, and golf. In February he was diagnosed with B Cell Acute Lymphoblastic Leukemia and will be on a 2+ year treatment plan.<br />\nPlease join us June 13th to play for Team Ryder!<br />\n- 4 on 4<br />\n- $30 Per Player<br />\n- 3 Point Contest<br />\n- Free Throw Contest<br />\n- 8 Player Team Max<br />\n- 5 Game Minimum<br />\n- Giveaways<br />\n- Free Parking<br />\n- Concessions<br />\n- Must be 18+ years old to play<br />\nTournament hosted by The Brantley Team at RE/MAX Landmark.<br />\nFor more information contact: Cody Brantley at 903-283-2145</span></span>
LOCATION:Canton Jr High Gym 1021-1099 Athens St\, Canton TX 75103
UID:e.3103.1898
SEQUENCE:3
DTSTAMP:20260421T200748Z
URL:https://www.cantontexaschamber.com/events/details/miracle-madness-basketball-tournament-hosted-by-the-brantley-team-at-re-max-1898
END:VEVENT

END:VCALENDAR
