BEGIN:VCALENDAR
VERSION:2.0
PRODID:-//ChamberMaster//Event Calendar 2.0//EN
METHOD:PUBLISH
X-PUBLISHED-TTL:P3D
REFRESH-INTERVAL:P3D
CALSCALE:GREGORIAN
BEGIN:VEVENT
DTSTART;VALUE=DATE:20190920
DTEND;VALUE=DATE:20190923
TRANSP:TRANSPARENT
X-MICROSOFT-CDO-ALLDAYEVENT:TRUE
SUMMARY:Texas Rose Dressage Fall Classic
DESCRIPTION:Dressage is a highly skilled form of riding performed in exhibition and competition\, as well as an "art" sometimes pursed solely for the sake of mastery. As an equestrian sport defined by the International Equestrian Federation\, dressage is "the highest expression of horse training" where "horse and rider are expected to perform from memory a series of predetermined movements."
X-ALT-DESC;FMTTYPE=text/html:Dressage is a highly skilled form of riding performed in exhibition and competition\, as well as an &quot\;art&quot\; sometimes pursed solely for the sake of mastery. As an equestrian sport defined by the International Equestrian Federation\, dressage is &quot\;the highest expression of horse training&quot\; where &quot\;horse and rider are expected to perform from memory a series of predetermined movements.&quot\;
LOCATION:Texas Rose Horse Park 14078 State Hwy 110 N Tyler\, TX 75704
UID:e.3103.381
SEQUENCE:3
DTSTAMP:20260421T061204Z
URL:https://www.cantontexaschamber.com/events/details/texas-rose-dressage-fall-classic-381
END:VEVENT

END:VCALENDAR
